BEGIN:VCALENDAR
VERSION:2.0
PRODID:-//URC Yorkshire Synod - ECPv6.15.20//NONSGML v1.0//EN
CALSCALE:GREGORIAN
METHOD:PUBLISH
X-WR-CALNAME:URC Yorkshire Synod
X-ORIGINAL-URL:https://urcyorkshire.org.uk
X-WR-CALDESC:Events for URC Yorkshire Synod
REFRESH-INTERVAL;VALUE=DURATION:PT1H
X-Robots-Tag:noindex
X-PUBLISHED-TTL:PT1H
BEGIN:VTIMEZONE
TZID:Europe/London
BEGIN:DAYLIGHT
TZOFFSETFROM:+0000
TZOFFSETTO:+0100
TZNAME:BST
DTSTART:20200329T010000
END:DAYLIGHT
BEGIN:STANDARD
TZOFFSETFROM:+0100
TZOFFSETTO:+0000
TZNAME:GMT
DTSTART:20201025T010000
END:STANDARD
BEGIN:DAYLIGHT
TZOFFSETFROM:+0000
TZOFFSETTO:+0100
TZNAME:BST
DTSTART:20210328T010000
END:DAYLIGHT
BEGIN:STANDARD
TZOFFSETFROM:+0100
TZOFFSETTO:+0000
TZNAME:GMT
DTSTART:20211031T010000
END:STANDARD
BEGIN:DAYLIGHT
TZOFFSETFROM:+0000
TZOFFSETTO:+0100
TZNAME:BST
DTSTART:20220327T010000
END:DAYLIGHT
BEGIN:STANDARD
TZOFFSETFROM:+0100
TZOFFSETTO:+0000
TZNAME:GMT
DTSTART:20221030T010000
END:STANDARD
END:VTIMEZONE
BEGIN:VEVENT
DTSTART;TZID=Europe/London:20210715T190000
DTEND;TZID=Europe/London:20210715T210000
DTSTAMP:20260425T175047
CREATED:20210602T133020Z
LAST-MODIFIED:20210706T093249Z
UID:6435-1626375600-1626382800@urcyorkshire.org.uk
SUMMARY:Writing for the Web
DESCRIPTION:Writing for the web – a session led by Lawrence Moore\, is suitable for anyone who ever produces content for a church website\, newsletter (online or print!) or social media. \nThis exciting\, interactive workshop will cover: \n\nReading styles: web vs. print;\nBuilding your audience profile;\nFog index & readability;\n“Chunking” content;\nThe inverted pyramid of journalism;\nBells & whistles.\n\nThe sessions will take place on Zoom\, a link for which will be sent out nearer the time. \nThere are two iterations of the same session\, taking place on 15th July 7-9pm and 17th July 10am-12pm.  \nYou can sign-up here: https://writingfortheweb1.eventbrite.co.uk
URL:https://urcyorkshire.org.uk/event/writing-for-the-web/2021-07-15/
CATEGORIES:Synod Events
ATTACH;FMTTYPE=image/jpeg:https://urcyorkshire.org.uk/wp-content/uploads/2021/06/Writing-for-the-Web-Pixabay-image.jpg
END:VEVENT
END:VCALENDAR