BEGIN:VCALENDAR
VERSION:2.0
PRODID:-//URC Yorkshire Synod - ECPv6.15.20//NONSGML v1.0//EN
CALSCALE:GREGORIAN
METHOD:PUBLISH
X-ORIGINAL-URL:https://urcyorkshire.org.uk
X-WR-CALDESC:Events for URC Yorkshire Synod
REFRESH-INTERVAL;VALUE=DURATION:PT1H
X-Robots-Tag:noindex
X-PUBLISHED-TTL:PT1H
BEGIN:VTIMEZONE
TZID:Europe/London
BEGIN:DAYLIGHT
TZOFFSETFROM:+0000
TZOFFSETTO:+0100
TZNAME:BST
DTSTART:20200329T010000
END:DAYLIGHT
BEGIN:STANDARD
TZOFFSETFROM:+0100
TZOFFSETTO:+0000
TZNAME:GMT
DTSTART:20201025T010000
END:STANDARD
BEGIN:DAYLIGHT
TZOFFSETFROM:+0000
TZOFFSETTO:+0100
TZNAME:BST
DTSTART:20210328T010000
END:DAYLIGHT
BEGIN:STANDARD
TZOFFSETFROM:+0100
TZOFFSETTO:+0000
TZNAME:GMT
DTSTART:20211031T010000
END:STANDARD
BEGIN:DAYLIGHT
TZOFFSETFROM:+0000
TZOFFSETTO:+0100
TZNAME:BST
DTSTART:20220327T010000
END:DAYLIGHT
BEGIN:STANDARD
TZOFFSETFROM:+0100
TZOFFSETTO:+0000
TZNAME:GMT
DTSTART:20221030T010000
END:STANDARD
END:VTIMEZONE
BEGIN:VEVENT
DTSTART;TZID=Europe/London:20210918T100000
DTEND;TZID=Europe/London:20210918T170000
DTSTAMP:20260424T212139
CREATED:20210710T113514Z
LAST-MODIFIED:20210824T151218Z
UID:6917-1631959200-1631984400@urcyorkshire.org.uk
SUMMARY:Little Big Day Out
DESCRIPTION:‘Little Big Day Out’ is a chance for families and children from your church to have fun and spend time together after so many months of isolation and limits on our lives. We cannot offer a large organised programme due to ongoing Covid restrictions but we can provide some space for fun and  ‘time out’. We hope you and your families will find it valuable to just be together. \nTickets for this event are already at a reduced price but further subsidy is available\, so please get in touch to discuss your church or families’ circumstance. Tickets are needed for everyone over 90cm tall (however old you are). \nYou can click on the poster below to download a copy. Download a booking form here. Bookings can be made by families or or you can arrange a group to go together. Unaccompanied adults are not allowed into the park but any adults who are taking or helping with children are welcome. Bookings need to be received by Weds 1st Sep. Please contact us if you have any questions. \nWe look forward to seeing you again in September 🙂
URL:https://urcyorkshire.org.uk/event/little-big-day-out/
CATEGORIES:Children, Youth and Families,Other,Synod Events
ATTACH;FMTTYPE=image/jpeg:https://urcyorkshire.org.uk/wp-content/uploads/2021/07/Gullivers-Valley-1b-scaled-e1626367930147.jpg
END:VEVENT
END:VCALENDAR