BEGIN:VCALENDAR
VERSION:2.0
PRODID:-//URC Yorkshire Synod - ECPv6.15.20//NONSGML v1.0//EN
CALSCALE:GREGORIAN
METHOD:PUBLISH
X-ORIGINAL-URL:https://urcyorkshire.org.uk
X-WR-CALDESC:Events for URC Yorkshire Synod
REFRESH-INTERVAL;VALUE=DURATION:PT1H
X-Robots-Tag:noindex
X-PUBLISHED-TTL:PT1H
BEGIN:VTIMEZONE
TZID:Europe/London
BEGIN:DAYLIGHT
TZOFFSETFROM:+0000
TZOFFSETTO:+0100
TZNAME:BST
DTSTART:20200329T010000
END:DAYLIGHT
BEGIN:STANDARD
TZOFFSETFROM:+0100
TZOFFSETTO:+0000
TZNAME:GMT
DTSTART:20201025T010000
END:STANDARD
BEGIN:DAYLIGHT
TZOFFSETFROM:+0000
TZOFFSETTO:+0100
TZNAME:BST
DTSTART:20210328T010000
END:DAYLIGHT
BEGIN:STANDARD
TZOFFSETFROM:+0100
TZOFFSETTO:+0000
TZNAME:GMT
DTSTART:20211031T010000
END:STANDARD
BEGIN:DAYLIGHT
TZOFFSETFROM:+0000
TZOFFSETTO:+0100
TZNAME:BST
DTSTART:20220327T010000
END:DAYLIGHT
BEGIN:STANDARD
TZOFFSETFROM:+0100
TZOFFSETTO:+0000
TZNAME:GMT
DTSTART:20221030T010000
END:STANDARD
END:VTIMEZONE
BEGIN:VEVENT
DTSTART;TZID=Europe/London:20210929T190000
DTEND;TZID=Europe/London:20210929T200000
DTSTAMP:20260424T212021
CREATED:20210920T105052Z
LAST-MODIFIED:20210920T105052Z
UID:8135-1632942000-1632945600@urcyorkshire.org.uk
SUMMARY:Synod Hello/Practice Session
DESCRIPTION:Come along to say hello and get yourselves comfortable with how synod will work this October! Feel free to ask any questions you may have\, either about the practicalities of meeting on Zoom\, or in-person. There’ll be plenty of people on hand to help out! \nBring a brew\, see you there!
URL:https://urcyorkshire.org.uk/event/synod-hello-practice-session/
LOCATION:Online!
CATEGORIES:Synod Events,Synod Meetings
ATTACH;FMTTYPE=image/jpeg:https://urcyorkshire.org.uk/wp-content/uploads/2021/09/scott-graham-5fNmWej4tAA-unsplash-scaled.jpg
END:VEVENT
END:VCALENDAR