BEGIN:VCALENDAR
VERSION:2.0
PRODID:-//URC Yorkshire Synod - ECPv6.15.20//NONSGML v1.0//EN
CALSCALE:GREGORIAN
METHOD:PUBLISH
X-ORIGINAL-URL:https://urcyorkshire.org.uk
X-WR-CALDESC:Events for URC Yorkshire Synod
REFRESH-INTERVAL;VALUE=DURATION:PT1H
X-Robots-Tag:noindex
X-PUBLISHED-TTL:PT1H
BEGIN:VTIMEZONE
TZID:Europe/London
BEGIN:DAYLIGHT
TZOFFSETFROM:+0000
TZOFFSETTO:+0100
TZNAME:BST
DTSTART:20210328T010000
END:DAYLIGHT
BEGIN:STANDARD
TZOFFSETFROM:+0100
TZOFFSETTO:+0000
TZNAME:GMT
DTSTART:20211031T010000
END:STANDARD
BEGIN:DAYLIGHT
TZOFFSETFROM:+0000
TZOFFSETTO:+0100
TZNAME:BST
DTSTART:20220327T010000
END:DAYLIGHT
BEGIN:STANDARD
TZOFFSETFROM:+0100
TZOFFSETTO:+0000
TZNAME:GMT
DTSTART:20221030T010000
END:STANDARD
BEGIN:DAYLIGHT
TZOFFSETFROM:+0000
TZOFFSETTO:+0100
TZNAME:BST
DTSTART:20230326T010000
END:DAYLIGHT
BEGIN:STANDARD
TZOFFSETFROM:+0100
TZOFFSETTO:+0000
TZNAME:GMT
DTSTART:20231029T010000
END:STANDARD
END:VTIMEZONE
BEGIN:VEVENT
DTSTART;TZID=Europe/London:20220430T093000
DTEND;TZID=Europe/London:20220430T123000
DTSTAMP:20260420T124926
CREATED:20220420T140935Z
LAST-MODIFIED:20220420T140935Z
UID:10717-1651311000-1651321800@urcyorkshire.org.uk
SUMMARY:Enquirers' Event
DESCRIPTION:Are you feeling called by God and want to explore further? This event may be for you. \nEmail ministries@urc.org.uk for more information and a Zoom link.
URL:https://urcyorkshire.org.uk/event/enquirers-event/
LOCATION:Online!
CATEGORIES:Mission
ATTACH;FMTTYPE=image/jpeg:https://urcyorkshire.org.uk/wp-content/uploads/2022/04/Enquirers-Pioneer-Event-.jpg
ORGANIZER;CN="The United Reformed Church":MAILTO:ministries@urc.org.uk
END:VEVENT
END:VCALENDAR