BEGIN:VCALENDAR
VERSION:2.0
PRODID:-//URC Yorkshire Synod - ECPv6.15.20//NONSGML v1.0//EN
CALSCALE:GREGORIAN
METHOD:PUBLISH
X-ORIGINAL-URL:https://urcyorkshire.org.uk
X-WR-CALDESC:Events for URC Yorkshire Synod
REFRESH-INTERVAL;VALUE=DURATION:PT1H
X-Robots-Tag:noindex
X-PUBLISHED-TTL:PT1H
BEGIN:VTIMEZONE
TZID:Europe/London
BEGIN:DAYLIGHT
TZOFFSETFROM:+0000
TZOFFSETTO:+0100
TZNAME:BST
DTSTART:20210328T010000
END:DAYLIGHT
BEGIN:STANDARD
TZOFFSETFROM:+0100
TZOFFSETTO:+0000
TZNAME:GMT
DTSTART:20211031T010000
END:STANDARD
BEGIN:DAYLIGHT
TZOFFSETFROM:+0000
TZOFFSETTO:+0100
TZNAME:BST
DTSTART:20220327T010000
END:DAYLIGHT
BEGIN:STANDARD
TZOFFSETFROM:+0100
TZOFFSETTO:+0000
TZNAME:GMT
DTSTART:20221030T010000
END:STANDARD
BEGIN:DAYLIGHT
TZOFFSETFROM:+0000
TZOFFSETTO:+0100
TZNAME:BST
DTSTART:20230326T010000
END:DAYLIGHT
BEGIN:STANDARD
TZOFFSETFROM:+0100
TZOFFSETTO:+0000
TZNAME:GMT
DTSTART:20231029T010000
END:STANDARD
END:VTIMEZONE
BEGIN:VEVENT
DTSTART;VALUE=DATE:20220930
DTEND;VALUE=DATE:20221003
DTSTAMP:20260424T052632
CREATED:20220803T102556Z
LAST-MODIFIED:20220803T102556Z
UID:11561-1664496000-1664755199@urcyorkshire.org.uk
SUMMARY:The Yorkshire Synod Youth Residential
DESCRIPTION:This event is the synod’s annual youth residential for young people aged 11 – 16 years and this year we will be gathering at Peak Venture (a Kingswood centre in Sheffield) from Friday 30 September – Sunday 2nd October. \nAt Peak Venture we will be pushing our limits and having a go at some exciting outdoor activities\, filling our bellies full of delicious food (and tuck) and we will even be doing some evening activities. Alongside this there will be opportunities to get to know young people from across the synod\, build friendships\, pray and share together. \nFor more information please contact Megan Tillbrook 07522 220213 / megancyp@urcyorkshire.org.uk\nTo book complete the following form: https://forms.gle/fuTSHMdYYWF8nBMt8
URL:https://urcyorkshire.org.uk/event/the-yorkshire-synod-youth-residential/
LOCATION:Peak Venture\, Huddersfield Road\, Sheffield\, S36 7GF\, United Kingdom
CATEGORIES:Children, Youth and Families
ATTACH;FMTTYPE=image/jpeg:https://urcyorkshire.org.uk/wp-content/uploads/2022/06/URC-Youth-Residential-2022-social-media-square.jpg
END:VEVENT
BEGIN:VEVENT
DTSTART;TZID=Europe/London:20221029T103000
DTEND;TZID=Europe/London:20221029T143000
DTSTAMP:20260424T052632
CREATED:20221006T100547Z
LAST-MODIFIED:20221006T100547Z
UID:12257-1667039400-1667053800@urcyorkshire.org.uk
SUMMARY:Youth FORUM
DESCRIPTION:The Youth FORUM continues on it’s journey to become a safe and open space where young people can gather from across the Yorkshire Synod to be together and to talk with each other about their faith. This time we will spend some time thinking about our well-being and the role that the church and it’s leaders have in nurturing positive mental health for children and young people. It is set to be an exciting and meaningful day together. We will share lunch (provided by the synod) and then head over to the trampoline park for an hour of fun before the day finishes. \nEveryone who feels they are able to engage in the day appropriately are welcome. To book please complete this form. \nFor more information please contact Megan Tillbrook: 07522 220213 / megancyp@urcyorkshire.org.uk\nTo read about what has happened at previous Youth FORUM gatherings click here and here.
URL:https://urcyorkshire.org.uk/event/youth-forum/
LOCATION:Xscape Yorkshire\, Colorado Way\, Castleford\, WF10 4TA\, United Kingdom
CATEGORIES:Children, Youth and Families
ATTACH;FMTTYPE=image/jpeg:https://urcyorkshire.org.uk/wp-content/uploads/2022/10/FORUM.jpg
END:VEVENT
BEGIN:VEVENT
DTSTART;TZID=Europe/London:20221031T080000
DTEND;TZID=Europe/London:20221031T170000
DTSTAMP:20260424T052632
CREATED:20221031T094556Z
LAST-MODIFIED:20221031T094556Z
UID:12487-1667203200-1667235600@urcyorkshire.org.uk
SUMMARY:Advent Retreat
DESCRIPTION:The Autumn half term is a busy time for anyone who works with children and young people in our Yorkshire churches. We have had our BIG Day Out\, followed by our Youth Residential and then we met for Youth Forum. Now the half term is over and there are only a few weeks before Advent and Christmas events and activities begin… \nOn Thursday 01 December there will be an opportunity to take a short amount of time out of the hustle and bustle. Join with other children and youth ministers from across the Yorkshire synod to pray together\, to talk to one another\, to walk alongside each other\, and to share lunch together. We will be reflecting on the meaning of Advent and we will also be intentional in building meaningful\, supportive relationships on our mutual journey’s of bringing the Gospel of Jesus Christ to each child and young person we meet. \nPlease contact Megan Tillbrook to secure your place: megancyp@urcyorkshire.org.uk / 07522220213
URL:https://urcyorkshire.org.uk/event/advent-retreat/
CATEGORIES:Children, Youth and Families
ATTACH;FMTTYPE=image/png:https://urcyorkshire.org.uk/wp-content/uploads/2022/10/Advent-retreat-2022.png
END:VEVENT
END:VCALENDAR