BEGIN:VCALENDAR
VERSION:2.0
PRODID:-//URC Yorkshire Synod - ECPv6.15.20//NONSGML v1.0//EN
CALSCALE:GREGORIAN
METHOD:PUBLISH
X-ORIGINAL-URL:https://urcyorkshire.org.uk
X-WR-CALDESC:Events for URC Yorkshire Synod
REFRESH-INTERVAL;VALUE=DURATION:PT1H
X-Robots-Tag:noindex
X-PUBLISHED-TTL:PT1H
BEGIN:VTIMEZONE
TZID:Europe/London
BEGIN:DAYLIGHT
TZOFFSETFROM:+0000
TZOFFSETTO:+0100
TZNAME:BST
DTSTART:20220327T010000
END:DAYLIGHT
BEGIN:STANDARD
TZOFFSETFROM:+0100
TZOFFSETTO:+0000
TZNAME:GMT
DTSTART:20221030T010000
END:STANDARD
BEGIN:DAYLIGHT
TZOFFSETFROM:+0000
TZOFFSETTO:+0100
TZNAME:BST
DTSTART:20230326T010000
END:DAYLIGHT
BEGIN:STANDARD
TZOFFSETFROM:+0100
TZOFFSETTO:+0000
TZNAME:GMT
DTSTART:20231029T010000
END:STANDARD
BEGIN:DAYLIGHT
TZOFFSETFROM:+0000
TZOFFSETTO:+0100
TZNAME:BST
DTSTART:20240331T010000
END:DAYLIGHT
BEGIN:STANDARD
TZOFFSETFROM:+0100
TZOFFSETTO:+0000
TZNAME:GMT
DTSTART:20241027T010000
END:STANDARD
END:VTIMEZONE
BEGIN:VEVENT
DTSTART;TZID=Europe/London:20230422T103000
DTEND;TZID=Europe/London:20230422T113000
DTSTAMP:20260421T235050
CREATED:20230331T151451Z
LAST-MODIFIED:20230331T153011Z
UID:13865-1682159400-1682163000@urcyorkshire.org.uk
SUMMARY:Young Adults Coffee April 2023
DESCRIPTION:Have a free coffee on us! 18+ (ish) can come along for a chat and catch up! \nExact venue TBC\, but drop Sam a message on 07738971174 for more details and/or to join the Young Adults WhatsApp group!
URL:https://urcyorkshire.org.uk/event/young-adults-coffee-april-2023/
LOCATION:Leeds
CATEGORIES:Children, Youth and Families,Synod Events
ATTACH;FMTTYPE=image/png:https://urcyorkshire.org.uk/wp-content/uploads/2023/02/Wilderness-Young-Adults-Coffee.png
END:VEVENT
BEGIN:VEVENT
DTSTART;TZID=Europe/London:20230424T190000
DTEND;TZID=Europe/London:20230424T203000
DTSTAMP:20260421T235050
CREATED:20230211T004247Z
LAST-MODIFIED:20230211T004247Z
UID:13379-1682362800-1682368200@urcyorkshire.org.uk
SUMMARY:Crafty Questions
DESCRIPTION:The Five Northerly Synods are hosting another useful event for those involved in children\, youth and family work! \nMaking the links between the activities we offer and the faith we want to share.  \nIt’s not about the crafts we do\, but the things we share whilst doing them. \nJoin the Zoom link on: bit.ly/5NSCraftyQuestions
URL:https://urcyorkshire.org.uk/event/crafty-questions/
LOCATION:Online!
CATEGORIES:Children, Youth and Families,National Event,Synod Events
ATTACH;FMTTYPE=image/png:https://urcyorkshire.org.uk/wp-content/uploads/2023/02/MC-23.04.24-Crafty-Questions.png
END:VEVENT
END:VCALENDAR