BEGIN:VCALENDAR
VERSION:2.0
PRODID:-//URC Yorkshire Synod - ECPv6.15.20//NONSGML v1.0//EN
CALSCALE:GREGORIAN
METHOD:PUBLISH
X-WR-CALNAME:URC Yorkshire Synod
X-ORIGINAL-URL:https://urcyorkshire.org.uk
X-WR-CALDESC:Events for URC Yorkshire Synod
REFRESH-INTERVAL;VALUE=DURATION:PT1H
X-Robots-Tag:noindex
X-PUBLISHED-TTL:PT1H
BEGIN:VTIMEZONE
TZID:Europe/London
BEGIN:DAYLIGHT
TZOFFSETFROM:+0000
TZOFFSETTO:+0100
TZNAME:BST
DTSTART:20220327T010000
END:DAYLIGHT
BEGIN:STANDARD
TZOFFSETFROM:+0100
TZOFFSETTO:+0000
TZNAME:GMT
DTSTART:20221030T010000
END:STANDARD
BEGIN:DAYLIGHT
TZOFFSETFROM:+0000
TZOFFSETTO:+0100
TZNAME:BST
DTSTART:20230326T010000
END:DAYLIGHT
BEGIN:STANDARD
TZOFFSETFROM:+0100
TZOFFSETTO:+0000
TZNAME:GMT
DTSTART:20231029T010000
END:STANDARD
BEGIN:DAYLIGHT
TZOFFSETFROM:+0000
TZOFFSETTO:+0100
TZNAME:BST
DTSTART:20240331T010000
END:DAYLIGHT
BEGIN:STANDARD
TZOFFSETFROM:+0100
TZOFFSETTO:+0000
TZNAME:GMT
DTSTART:20241027T010000
END:STANDARD
END:VTIMEZONE
BEGIN:VEVENT
DTSTART;TZID=Europe/London:20230405T103000
DTEND;TZID=Europe/London:20230405T150000
DTSTAMP:20260421T215357
CREATED:20230228T121335Z
LAST-MODIFIED:20230228T121335Z
UID:13531-1680690600-1680706800@urcyorkshire.org.uk
SUMMARY:Keld Study Day - Cross Purposes
DESCRIPTION:Our next study day will be held on Wednesday April 5th – the Wednesday of Holy Week. It will be led by Revd Frances Biseker\, our minister in residence that week\, and her husband John. \nTheme : Cross Purposes – Understanding the cross\, death and resurrection of Jesus in today’s world. \nThe programme for the day will be as follows: \n10.30 : Arrivals and Coffee\n11.00 : Session One\n12.30 : Lunch\n13.30 : Session Two\n15.00 : Refreshments and Departure \nThere will be discussion\, sharing\, space to ponder ……. \nAll participants are invited to bring a packed lunch. Drinks will be provided. The cost for the day will be £10 per person. \nTo book your place\, please contact Revd David Wood\nEmail address : david.wood4@btinternet.com \nThere will be three further study days in the summer. Watch this space!
URL:https://urcyorkshire.org.uk/event/keld-study-day-cross-purposes/
LOCATION:Keld Resource Centre\, Keld\,\, Richmond\,\, DL11 6LJ\, United Kingdom
CATEGORIES:Other
ATTACH;FMTTYPE=image/jpeg:https://urcyorkshire.org.uk/wp-content/uploads/2023/02/Keld-waterfall.jpg
END:VEVENT
END:VCALENDAR