BEGIN:VCALENDAR
VERSION:2.0
PRODID:-//URC Yorkshire Synod - ECPv6.15.20//NONSGML v1.0//EN
CALSCALE:GREGORIAN
METHOD:PUBLISH
X-ORIGINAL-URL:https://urcyorkshire.org.uk
X-WR-CALDESC:Events for URC Yorkshire Synod
REFRESH-INTERVAL;VALUE=DURATION:PT1H
X-Robots-Tag:noindex
X-PUBLISHED-TTL:PT1H
BEGIN:VTIMEZONE
TZID:Europe/London
BEGIN:DAYLIGHT
TZOFFSETFROM:+0000
TZOFFSETTO:+0100
TZNAME:BST
DTSTART:20230326T010000
END:DAYLIGHT
BEGIN:STANDARD
TZOFFSETFROM:+0100
TZOFFSETTO:+0000
TZNAME:GMT
DTSTART:20231029T010000
END:STANDARD
BEGIN:DAYLIGHT
TZOFFSETFROM:+0000
TZOFFSETTO:+0100
TZNAME:BST
DTSTART:20240331T010000
END:DAYLIGHT
BEGIN:STANDARD
TZOFFSETFROM:+0100
TZOFFSETTO:+0000
TZNAME:GMT
DTSTART:20241027T010000
END:STANDARD
BEGIN:DAYLIGHT
TZOFFSETFROM:+0000
TZOFFSETTO:+0100
TZNAME:BST
DTSTART:20250330T010000
END:DAYLIGHT
BEGIN:STANDARD
TZOFFSETFROM:+0100
TZOFFSETTO:+0000
TZNAME:GMT
DTSTART:20251026T010000
END:STANDARD
BEGIN:DAYLIGHT
TZOFFSETFROM:+0000
TZOFFSETTO:+0100
TZNAME:BST
DTSTART:20260329T010000
END:DAYLIGHT
BEGIN:STANDARD
TZOFFSETFROM:+0100
TZOFFSETTO:+0000
TZNAME:GMT
DTSTART:20261025T010000
END:STANDARD
BEGIN:DAYLIGHT
TZOFFSETFROM:+0000
TZOFFSETTO:+0100
TZNAME:BST
DTSTART:20270328T010000
END:DAYLIGHT
BEGIN:STANDARD
TZOFFSETFROM:+0100
TZOFFSETTO:+0000
TZNAME:GMT
DTSTART:20271031T010000
END:STANDARD
END:VTIMEZONE
BEGIN:VEVENT
DTSTART;TZID=Europe/London:20240412T190000
DTEND;TZID=Europe/London:20240412T211500
DTSTAMP:20260425T131616
CREATED:20240117T102903Z
LAST-MODIFIED:20240118T100523Z
UID:15385-1712948400-1712956500@urcyorkshire.org.uk
SUMMARY:Walk through the Bible
DESCRIPTION:Friday 12th April 2024  7 – 9.15pm  AND  Saturday 13th April 2024  9.30am – 1pm \n(please note\, this is one event over two days) \n“Relax and enjoy the journey as an experienced guide encourages you to see God’s Word through the ‘Big Picture’.  Our FUN and MEMORABLE sessions will help you learn with such CLARITY you’ll be able to retell the whole STORYLINE to a friend.  We will also do our best to INSPIRE and EQUIP you to keep digging deeper.” \nPrior booking is necessary by contacting Caroline Butler on 07904 509802 or by email here  \nsee flier for details
URL:https://urcyorkshire.org.uk/event/walk-through-the-bible/2024-04-12/
LOCATION:Bilton Grange URC\, Woodfield Road\, Harrogate\, HG1 4LN
CATEGORIES:Mission,Other
ATTACH;FMTTYPE=image/jpeg:https://urcyorkshire.org.uk/wp-content/uploads/2024/01/Walk-through-the-Bible-image.jpg
END:VEVENT
BEGIN:VEVENT
DTSTART;TZID=Europe/London:20240704T103000
DTEND;TZID=Europe/London:20240704T153000
DTSTAMP:20260425T131616
CREATED:20240229T112355Z
LAST-MODIFIED:20240229T112355Z
UID:15661-1720089000-1720107000@urcyorkshire.org.uk
SUMMARY:Keld Study Days in 2024
DESCRIPTION:Thursday July 4th : Revd. Michael Pearson – Five impossible Things to Believe before Christmas! \nSaturday August 17th : Revd. Peter Sinclair – After Sunday : Being Church Seven Days a Week \nThursday September 26th : Ms. Dorothy Thomson – There’s a Sermon in There Somewhere! \nFurther information and booking see flier
URL:https://urcyorkshire.org.uk/event/keld-study-days-in-2024/2024-07-04/
LOCATION:Keld Resource Centre\, Keld\,\, Richmond\,\, DL11 6LJ\, United Kingdom
CATEGORIES:Other,Synod Events
ATTACH;FMTTYPE=image/jpeg:https://urcyorkshire.org.uk/wp-content/uploads/2024/02/Keld-Study-days-image-2.jpg
ORGANIZER;CN="Rev David Wood":MAILTO:david.wood4@btinternet.com
END:VEVENT
BEGIN:VEVENT
DTSTART;TZID=Europe/London:20240810T140000
DTEND;TZID=Europe/London:20240810T170000
DTSTAMP:20260425T131616
CREATED:20240801T125513Z
LAST-MODIFIED:20240801T125734Z
UID:16485-1723298400-1723309200@urcyorkshire.org.uk
SUMMARY:Forest Church - Saturday 10th August at 2pm
DESCRIPTION:A chance to gather at Temple Newsam for songs\, stories\, snacks and fun for all ages. Meeting at the amphitheatre. To book at place\, text/call Nicola on 07572 986 305. \n \nDownload flier
URL:https://urcyorkshire.org.uk/event/forest-church-saturday-10th-august-at-2pm/
LOCATION:Temple Newsham Park
CATEGORIES:Mission,Other,Synod Events
ATTACH;FMTTYPE=image/jpeg:https://urcyorkshire.org.uk/wp-content/uploads/2024/08/cover-image.jpg
END:VEVENT
BEGIN:VEVENT
DTSTART;TZID=Europe/London:20240817T103000
DTEND;TZID=Europe/London:20240817T153000
DTSTAMP:20260425T131616
CREATED:20240229T112416Z
LAST-MODIFIED:20240229T112416Z
UID:15665-1723890600-1723908600@urcyorkshire.org.uk
SUMMARY:Keld Study Days in 2024
DESCRIPTION:Thursday July 4th : Revd. Michael Pearson – Five impossible Things to Believe before Christmas! \nSaturday August 17th : Revd. Peter Sinclair – After Sunday : Being Church Seven Days a Week \nThursday September 26th : Ms. Dorothy Thomson – There’s a Sermon in There Somewhere! \nFurther information and booking see flier
URL:https://urcyorkshire.org.uk/event/keld-study-days-in-2024/2024-08-17/
LOCATION:Keld Resource Centre\, Keld\,\, Richmond\,\, DL11 6LJ\, United Kingdom
CATEGORIES:Other,Synod Events
ATTACH;FMTTYPE=image/jpeg:https://urcyorkshire.org.uk/wp-content/uploads/2024/02/Keld-Study-days-image-2.jpg
ORGANIZER;CN="Rev David Wood":MAILTO:david.wood4@btinternet.com
END:VEVENT
BEGIN:VEVENT
DTSTART;TZID=Europe/London:20240926T103000
DTEND;TZID=Europe/London:20240926T153000
DTSTAMP:20260425T131616
CREATED:20240229T112425Z
LAST-MODIFIED:20240229T112425Z
UID:15667-1727346600-1727364600@urcyorkshire.org.uk
SUMMARY:Keld Study Days in 2024
DESCRIPTION:Thursday July 4th : Revd. Michael Pearson – Five impossible Things to Believe before Christmas! \nSaturday August 17th : Revd. Peter Sinclair – After Sunday : Being Church Seven Days a Week \nThursday September 26th : Ms. Dorothy Thomson – There’s a Sermon in There Somewhere! \nFurther information and booking see flier
URL:https://urcyorkshire.org.uk/event/keld-study-days-in-2024/2024-09-26/
LOCATION:Keld Resource Centre\, Keld\,\, Richmond\,\, DL11 6LJ\, United Kingdom
CATEGORIES:Other,Synod Events
ATTACH;FMTTYPE=image/jpeg:https://urcyorkshire.org.uk/wp-content/uploads/2024/02/Keld-Study-days-image-2.jpg
ORGANIZER;CN="Rev David Wood":MAILTO:david.wood4@btinternet.com
END:VEVENT
BEGIN:VEVENT
DTSTART;TZID=Europe/London:20241005T093000
DTEND;TZID=Europe/London:20241005T123000
DTSTAMP:20260425T131616
CREATED:20240917T105543Z
LAST-MODIFIED:20240917T105543Z
UID:16743-1728120600-1728131400@urcyorkshire.org.uk
SUMMARY:Ministry Enquirers' Event
DESCRIPTION:Learn what God might be asking of you at the Ministry Enquirers’ Event taking place on 5 October from 9.30am-12.30pm on Zoom.\n\nHere you’ll be able to think about God’s call to Stepwise\, Worship Leading\, Lay Preaching\, Lay Pioneering\, Ministry with children and young people\, the Ministry of Word and Sacraments or Church Related Community Work. \nFlier – download\n\nFor joining details\, please email the Ministries Team
URL:https://urcyorkshire.org.uk/event/ministry-enquirers-event-4/
LOCATION:West Yorkshire
CATEGORIES:National Event,Other
ATTACH;FMTTYPE=image/jpeg:https://urcyorkshire.org.uk/wp-content/uploads/2024/09/cover-image.jpg
ORGANIZER;CN="The United Reformed Church":MAILTO:ministries@urc.org.uk
END:VEVENT
BEGIN:VEVENT
DTSTART;TZID=Europe/London:20250412T103000
DTEND;TZID=Europe/London:20250412T143000
DTSTAMP:20260425T131616
CREATED:20250401T092229Z
LAST-MODIFIED:20250401T092613Z
UID:17823-1744453800-1744468200@urcyorkshire.org.uk
SUMMARY:Stations of the Cross - Contemporary Art Exhibition
DESCRIPTION:By local artist Stephen Walker\, retired URC Accredited Lay Preacher and Elder. Stephen painted the stages during the Covid pandemic to complement the writings of the later URC Minister\, Rev Michael Wear. \nThe church will be open for viewing the art works from 10.30am to 2.30pm\,on\nSaturday 12th April\nSaturday 19th April \ndownload flier
URL:https://urcyorkshire.org.uk/event/stations-of-the-cross-contemporary-art-exhibition/2025-04-12/
LOCATION:Knottingley URC\, The Salvation Army\, Weeland Road\, Knottingley\, WF11 8BE
CATEGORIES:Other,Synod Events
ATTACH;FMTTYPE=image/jpeg:https://urcyorkshire.org.uk/wp-content/uploads/2025/04/cover-image.jpg
END:VEVENT
BEGIN:VEVENT
DTSTART;TZID=Europe/London:20250419T103000
DTEND;TZID=Europe/London:20250419T143000
DTSTAMP:20260425T131616
CREATED:20250401T092229Z
LAST-MODIFIED:20250401T092613Z
UID:17827-1745058600-1745073000@urcyorkshire.org.uk
SUMMARY:Stations of the Cross - Contemporary Art Exhibition
DESCRIPTION:By local artist Stephen Walker\, retired URC Accredited Lay Preacher and Elder. Stephen painted the stages during the Covid pandemic to complement the writings of the later URC Minister\, Rev Michael Wear. \nThe church will be open for viewing the art works from 10.30am to 2.30pm\,on\nSaturday 12th April\nSaturday 19th April \ndownload flier
URL:https://urcyorkshire.org.uk/event/stations-of-the-cross-contemporary-art-exhibition/2025-04-19/
LOCATION:Knottingley URC\, The Salvation Army\, Weeland Road\, Knottingley\, WF11 8BE
CATEGORIES:Other,Synod Events
ATTACH;FMTTYPE=image/jpeg:https://urcyorkshire.org.uk/wp-content/uploads/2025/04/cover-image.jpg
END:VEVENT
BEGIN:VEVENT
DTSTART;TZID=Europe/London:20250524T103000
DTEND;TZID=Europe/London:20250524T130000
DTSTAMP:20260425T131616
CREATED:20250312T115559Z
LAST-MODIFIED:20250312T115559Z
UID:17625-1748082600-1748091600@urcyorkshire.org.uk
SUMMARY:Yorkshire Synod Forum
DESCRIPTION:
URL:https://urcyorkshire.org.uk/event/yorkshire-synod-forum/
LOCATION:St Ninian’s and St Andrew’s URC\, Chanterlands Avenue\, HULL\, HU5 4DJ
CATEGORIES:Other,Synod Events
END:VEVENT
BEGIN:VEVENT
DTSTART;TZID=Europe/London:20250531T103000
DTEND;TZID=Europe/London:20250531T130000
DTSTAMP:20260425T131616
CREATED:20250312T120151Z
LAST-MODIFIED:20250312T120151Z
UID:17629-1748687400-1748696400@urcyorkshire.org.uk
SUMMARY:Yorkshire Synod Forum
DESCRIPTION:
URL:https://urcyorkshire.org.uk/event/yorkshire-synod-forum-2/
LOCATION:West Park URC\, Harrogate\, West Park\, Harrogate\, HG1 1BL
CATEGORIES:Other,Synod Events
END:VEVENT
BEGIN:VEVENT
DTSTART;TZID=Europe/London:20250607T103000
DTEND;TZID=Europe/London:20250607T130000
DTSTAMP:20260425T131616
CREATED:20250312T120748Z
LAST-MODIFIED:20250312T120748Z
UID:17637-1749292200-1749301200@urcyorkshire.org.uk
SUMMARY:Yorkshire Synod Forum
DESCRIPTION:
URL:https://urcyorkshire.org.uk/event/yorkshire-synod-forum-3/
LOCATION:Ravensthorpe with Hopton URC\, North Road\, Wakefield\, WF13 3AG
CATEGORIES:Other,Synod Events
END:VEVENT
BEGIN:VEVENT
DTSTART;TZID=Europe/London:20250712T103000
DTEND;TZID=Europe/London:20250712T130000
DTSTAMP:20260425T131616
CREATED:20250312T121331Z
LAST-MODIFIED:20250312T121331Z
UID:17643-1752316200-1752325200@urcyorkshire.org.uk
SUMMARY:Yorkshire Synod Forum
DESCRIPTION:
URL:https://urcyorkshire.org.uk/event/yorkshire-synod-forum-4/
LOCATION:West Melton URC\, Melton High Street\, Wath-upon-Dearne\, Rotherham\, S63 6RG
CATEGORIES:Other,Synod Events
END:VEVENT
BEGIN:VEVENT
DTSTART;TZID=Europe/London:20260122T140000
DTEND;TZID=Europe/London:20260122T160000
DTSTAMP:20260425T131616
CREATED:20251203T133051Z
LAST-MODIFIED:20251203T133648Z
UID:19127-1769090400-1769097600@urcyorkshire.org.uk
SUMMARY:Synod Mission Fund Panel meeting
DESCRIPTION:
URL:https://urcyorkshire.org.uk/event/synod-mission-fund-panel-meeting/
LOCATION:Somerset House\, St Paul's Street\, Morley\, West Yorkshire\, LS27 9EP\, United Kingdom
CATEGORIES:Other
END:VEVENT
BEGIN:VEVENT
DTSTART;TZID=Europe/London:20260124T100000
DTEND;TZID=Europe/London:20260124T133000
DTSTAMP:20260425T131616
CREATED:20251124T135103Z
LAST-MODIFIED:20251124T135103Z
UID:19015-1769248800-1769261400@urcyorkshire.org.uk
SUMMARY:"Good Meetings" event
DESCRIPTION:We have meetings at every level of church life. They are essential to being the Body of Christ. They can be places of real human connection. But they don’t always achieve everything we might hope for.\nCome and join the conversation about how we ensure that ‘Meetings’ in church life are fruitful\, where we have meaningful conversations\, and are places of Christ-shaped mission. \nSaturday 24th January 2026\nat Headingley St Columba United Reformed Church \nLed by Rev Jamie Kissack and Mrs Emmaneille Bastide-Wilson of the Synod’s Appreciative Inquiry Group \nSee flier for further details here \nBooking via office@urcyorkshire.org.uk  \n 
URL:https://urcyorkshire.org.uk/event/good-meetings-event/
LOCATION:Headingley St Columba United Reformed Church\, Headingley Lane\, LS6 2DH
CATEGORIES:Elders,Other,Synod Events
END:VEVENT
BEGIN:VEVENT
DTSTART;TZID=Europe/London:20260209T100000
DTEND;TZID=Europe/London:20260209T133000
DTSTAMP:20260425T131616
CREATED:20251104T133813Z
LAST-MODIFIED:20251104T133813Z
UID:18861-1770631200-1770643800@urcyorkshire.org.uk
SUMMARY:URC Serving Ministers' Gathering 'on-location'
DESCRIPTION:
URL:https://urcyorkshire.org.uk/event/urc-serving-ministers-gathering-on-location/
LOCATION:Herringthorpe United Reformed Church\, Wickersley Road\, S60 4JN
CATEGORIES:Other
END:VEVENT
BEGIN:VEVENT
DTSTART;TZID=Europe/London:20260210T190000
DTEND;TZID=Europe/London:20260210T210000
DTSTAMP:20260425T131616
CREATED:20251222T100926Z
LAST-MODIFIED:20251222T100926Z
UID:19337-1770750000-1770757200@urcyorkshire.org.uk
SUMMARY:Pastoral Committee meeting
DESCRIPTION:
URL:https://urcyorkshire.org.uk/event/pastoral-committee-meeting-7/
LOCATION:Somerset House\, St Paul's Street\, Morley\, West Yorkshire\, LS27 9EP\, United Kingdom
CATEGORIES:Other,Pastoral Committee
END:VEVENT
BEGIN:VEVENT
DTSTART;TZID=Europe/London:20260223T100000
DTEND;TZID=Europe/London:20260223T120000
DTSTAMP:20260425T131616
CREATED:20260105T141253Z
LAST-MODIFIED:20260105T141658Z
UID:19361-1771840800-1771848000@urcyorkshire.org.uk
SUMMARY:Joint Safeguarding Committee meeting
DESCRIPTION:
URL:https://urcyorkshire.org.uk/event/joint-safeguarding-committee-meeting/2026-02-23/
LOCATION:Zoom
CATEGORIES:Other,Safeguarding
END:VEVENT
BEGIN:VEVENT
DTSTART;TZID=Europe/London:20260306T140000
DTEND;TZID=Europe/London:20260306T160000
DTSTAMP:20260425T131616
CREATED:20260126T133617Z
LAST-MODIFIED:20260126T133617Z
UID:19413-1772805600-1772812800@urcyorkshire.org.uk
SUMMARY:World Day of Prayer - "I will give you rest\, come"
DESCRIPTION:World Day of Prayer – “I will give you rest\, come” \nprepared by Christian women from Nigeria \nFriday 6th March at 2pm\nWestfield URC\, Wyke \nAll are welcome – refreshments to follow
URL:https://urcyorkshire.org.uk/event/world-day-of-prayer-i-will-give-you-rest-come/
LOCATION:Westfield United Reformed Church\, Wyke\, Westfield Lane\, BD12 9DB
CATEGORIES:Other
ATTACH;FMTTYPE=image/jpeg:https://urcyorkshire.org.uk/wp-content/uploads/2026/01/WDOP-logo-2.jpg
END:VEVENT
BEGIN:VEVENT
DTSTART;TZID=Europe/London:20260314T100000
DTEND;TZID=Europe/London:20260314T160000
DTSTAMP:20260425T131616
CREATED:20251119T134846Z
LAST-MODIFIED:20251119T135242Z
UID:18941-1773482400-1773504000@urcyorkshire.org.uk
SUMMARY:Synod Meeting
DESCRIPTION:
URL:https://urcyorkshire.org.uk/event/synod-meeting-6/
LOCATION:West Park URC\, Harrogate\, West Park\, Harrogate\, HG1 1BL
CATEGORIES:Other,Synod Events
END:VEVENT
BEGIN:VEVENT
DTSTART;TZID=Europe/London:20260416T140000
DTEND;TZID=Europe/London:20260416T160000
DTSTAMP:20260425T131616
CREATED:20251203T133834Z
LAST-MODIFIED:20251203T134221Z
UID:19135-1776348000-1776355200@urcyorkshire.org.uk
SUMMARY:Synod Mission Fund Panel meeting
DESCRIPTION:
URL:https://urcyorkshire.org.uk/event/synod-mission-fund-panel-meeting-2/
LOCATION:Somerset House\, St Paul's Street\, Morley\, West Yorkshire\, LS27 9EP\, United Kingdom
CATEGORIES:Other
END:VEVENT
BEGIN:VEVENT
DTSTART;TZID=Europe/London:20260512T133000
DTEND;TZID=Europe/London:20260512T150000
DTSTAMP:20260425T131616
CREATED:20251203T134736Z
LAST-MODIFIED:20251203T134736Z
UID:19147-1778592600-1778598000@urcyorkshire.org.uk
SUMMARY:Welfare Committee meeting
DESCRIPTION:
URL:https://urcyorkshire.org.uk/event/welfare-committee-meeting/
LOCATION:Somerset House\, St Paul's Street\, Morley\, West Yorkshire\, LS27 9EP\, United Kingdom
CATEGORIES:Other
END:VEVENT
BEGIN:VEVENT
DTSTART;TZID=Europe/London:20260601T100000
DTEND;TZID=Europe/London:20260601T120000
DTSTAMP:20260425T131616
CREATED:20260105T141253Z
LAST-MODIFIED:20260105T141658Z
UID:19365-1780308000-1780315200@urcyorkshire.org.uk
SUMMARY:Joint Safeguarding Committee meeting
DESCRIPTION:
URL:https://urcyorkshire.org.uk/event/joint-safeguarding-committee-meeting/2026-06-01/
LOCATION:Zoom
CATEGORIES:Other,Safeguarding
END:VEVENT
BEGIN:VEVENT
DTSTART;TZID=Europe/London:20260609T103000
DTEND;TZID=Europe/London:20260609T143000
DTSTAMP:20260425T131616
CREATED:20251222T101158Z
LAST-MODIFIED:20251222T101158Z
UID:19341-1781001000-1781015400@urcyorkshire.org.uk
SUMMARY:Pastoral Committee meeting
DESCRIPTION:Location to be confirmed
URL:https://urcyorkshire.org.uk/event/pastoral-committee-meeting-8/
LOCATION:West Yorkshire
CATEGORIES:Other,Pastoral Committee
END:VEVENT
BEGIN:VEVENT
DTSTART;TZID=Europe/London:20260716T140000
DTEND;TZID=Europe/London:20260716T160000
DTSTAMP:20260425T131616
CREATED:20251203T134008Z
LAST-MODIFIED:20251203T134008Z
UID:19139-1784210400-1784217600@urcyorkshire.org.uk
SUMMARY:Synod Mission Fund Panel meeting
DESCRIPTION:
URL:https://urcyorkshire.org.uk/event/synod-mission-fund-panel-meeting-3/
LOCATION:Somerset House\, St Paul's Street\, Morley\, West Yorkshire\, LS27 9EP\, United Kingdom
CATEGORIES:Other
END:VEVENT
BEGIN:VEVENT
DTSTART;TZID=Europe/London:20260717T120000
DTEND;TZID=Europe/London:20260719T133000
DTSTAMP:20260425T131616
CREATED:20260119T110142Z
LAST-MODIFIED:20260119T114136Z
UID:19389-1784289600-1784467800@urcyorkshire.org.uk
SUMMARY:Lay Preachers' and Worship Leaders' Weekend
DESCRIPTION:See flier \nFlier image – Pixabay
URL:https://urcyorkshire.org.uk/event/lay-preachers-and-worship-leaders-weekend-3/
LOCATION:Wydale Hall\, Wydale Hall\, Scarborough\, YO13 9DG\, United Kingdom
CATEGORIES:Ministries Committee,Other
END:VEVENT
BEGIN:VEVENT
DTSTART;TZID=Europe/London:20260901T190000
DTEND;TZID=Europe/London:20260901T210000
DTSTAMP:20260425T131616
CREATED:20251222T101313Z
LAST-MODIFIED:20251222T101313Z
UID:19345-1788289200-1788296400@urcyorkshire.org.uk
SUMMARY:Pastoral Committee meeting
DESCRIPTION:
URL:https://urcyorkshire.org.uk/event/pastoral-committee-meeting-9/
LOCATION:Somerset House\, St Paul's Street\, Morley\, West Yorkshire\, LS27 9EP\, United Kingdom
CATEGORIES:Other,Pastoral Committee
END:VEVENT
BEGIN:VEVENT
DTSTART;TZID=Europe/London:20261010T100000
DTEND;TZID=Europe/London:20261010T160000
DTSTAMP:20260425T131616
CREATED:20251119T135427Z
LAST-MODIFIED:20251119T135427Z
UID:18947-1791626400-1791648000@urcyorkshire.org.uk
SUMMARY:Synod Meeting
DESCRIPTION:
URL:https://urcyorkshire.org.uk/event/synod-meeting-7/
LOCATION:Moldgreen URC\, Old Wakefield Road\, Moldgreen\, Huddersfield\, HD5 8AA
CATEGORIES:Other,Synod Events
END:VEVENT
BEGIN:VEVENT
DTSTART;TZID=Europe/London:20261015T140000
DTEND;TZID=Europe/London:20261015T160000
DTSTAMP:20260425T131616
CREATED:20251203T134119Z
LAST-MODIFIED:20251203T134119Z
UID:19143-1792072800-1792080000@urcyorkshire.org.uk
SUMMARY:Synod Mission Fund Panel meeting
DESCRIPTION:
URL:https://urcyorkshire.org.uk/event/synod-mission-fund-panel-meeting-4/
LOCATION:Somerset House\, St Paul's Street\, Morley\, West Yorkshire\, LS27 9EP\, United Kingdom
CATEGORIES:Other
END:VEVENT
BEGIN:VEVENT
DTSTART;TZID=Europe/London:20261201T103000
DTEND;TZID=Europe/London:20261201T143000
DTSTAMP:20260425T131616
CREATED:20251222T101658Z
LAST-MODIFIED:20251222T101658Z
UID:19349-1796121000-1796135400@urcyorkshire.org.uk
SUMMARY:Pastoral Committee meeting
DESCRIPTION:
URL:https://urcyorkshire.org.uk/event/pastoral-committee-meeting-10/
LOCATION:Somerset House\, St Paul's Street\, Morley\, West Yorkshire\, LS27 9EP\, United Kingdom
CATEGORIES:Other,Pastoral Committee
END:VEVENT
END:VCALENDAR