BEGIN:VCALENDAR
VERSION:2.0
PRODID:-//URC Yorkshire Synod - ECPv6.15.20//NONSGML v1.0//EN
CALSCALE:GREGORIAN
METHOD:PUBLISH
X-WR-CALNAME:URC Yorkshire Synod
X-ORIGINAL-URL:https://urcyorkshire.org.uk
X-WR-CALDESC:Events for URC Yorkshire Synod
REFRESH-INTERVAL;VALUE=DURATION:PT1H
X-Robots-Tag:noindex
X-PUBLISHED-TTL:PT1H
BEGIN:VTIMEZONE
TZID:Europe/London
BEGIN:DAYLIGHT
TZOFFSETFROM:+0000
TZOFFSETTO:+0100
TZNAME:BST
DTSTART:20200329T010000
END:DAYLIGHT
BEGIN:STANDARD
TZOFFSETFROM:+0100
TZOFFSETTO:+0000
TZNAME:GMT
DTSTART:20201025T010000
END:STANDARD
BEGIN:DAYLIGHT
TZOFFSETFROM:+0000
TZOFFSETTO:+0100
TZNAME:BST
DTSTART:20210328T010000
END:DAYLIGHT
BEGIN:STANDARD
TZOFFSETFROM:+0100
TZOFFSETTO:+0000
TZNAME:GMT
DTSTART:20211031T010000
END:STANDARD
BEGIN:DAYLIGHT
TZOFFSETFROM:+0000
TZOFFSETTO:+0100
TZNAME:BST
DTSTART:20220327T010000
END:DAYLIGHT
BEGIN:STANDARD
TZOFFSETFROM:+0100
TZOFFSETTO:+0000
TZNAME:GMT
DTSTART:20221030T010000
END:STANDARD
END:VTIMEZONE
BEGIN:VEVENT
DTSTART;TZID=Europe/London:20210512T100000
DTEND;TZID=Europe/London:20210512T113000
DTSTAMP:20260425T233908
CREATED:20210326T162519Z
LAST-MODIFIED:20210329T140811Z
UID:4699-1620813600-1620819000@urcyorkshire.org.uk
SUMMARY:Property Committee
DESCRIPTION:Meeting of the synod property committee. For agenda/documents please login in the members area.
URL:https://urcyorkshire.org.uk/event/property-committee/
LOCATION:Online!
CATEGORIES:Property Committee
END:VEVENT
BEGIN:VEVENT
DTSTART;TZID=Europe/London:20210515T100000
DTEND;TZID=Europe/London:20210515T130000
DTSTAMP:20260425T233908
CREATED:20210426T125628Z
LAST-MODIFIED:20210426T125628Z
UID:5337-1621072800-1621083600@urcyorkshire.org.uk
SUMMARY:Quiet Day
DESCRIPTION:Quiet Day – for Reflection\, Refreshment\, Renewal\nSaturday May 15th 2021 10am – 1pm\nLed by Rev Annette Haigh\nWe gather online\, and then spend time in our own\nspace\, with guided reflections and prayers \nSee flier \nTo book\, contact office@urcyorkshire.org.uk 
URL:https://urcyorkshire.org.uk/event/quiet-day/
CATEGORIES:Synod Events
ATTACH;FMTTYPE=image/jpeg:https://urcyorkshire.org.uk/wp-content/uploads/2021/04/Quiet-Day-image.jpg
END:VEVENT
BEGIN:VEVENT
DTSTART;TZID=Europe/London:20210518T190000
DTEND;TZID=Europe/London:20210518T213000
DTSTAMP:20260425T233908
CREATED:20210408T123303Z
LAST-MODIFIED:20210408T123303Z
UID:4877-1621364400-1621373400@urcyorkshire.org.uk
SUMMARY:Financial Resources Committee Meeting
DESCRIPTION:Details will be sent to members of the committee.\nIf you are interested in becoming involved with the committee please get in touch with the Synod office.
URL:https://urcyorkshire.org.uk/event/financial-resources-committee-meeting/
CATEGORIES:Financial Resources Committee
END:VEVENT
END:VCALENDAR