BEGIN:VCALENDAR
VERSION:2.0
PRODID:-//URC Yorkshire Synod - ECPv6.15.20//NONSGML v1.0//EN
CALSCALE:GREGORIAN
METHOD:PUBLISH
X-ORIGINAL-URL:https://urcyorkshire.org.uk
X-WR-CALDESC:Events for URC Yorkshire Synod
REFRESH-INTERVAL;VALUE=DURATION:PT1H
X-Robots-Tag:noindex
X-PUBLISHED-TTL:PT1H
BEGIN:VTIMEZONE
TZID:Europe/London
BEGIN:DAYLIGHT
TZOFFSETFROM:+0000
TZOFFSETTO:+0100
TZNAME:BST
DTSTART:20200329T010000
END:DAYLIGHT
BEGIN:STANDARD
TZOFFSETFROM:+0100
TZOFFSETTO:+0000
TZNAME:GMT
DTSTART:20201025T010000
END:STANDARD
BEGIN:DAYLIGHT
TZOFFSETFROM:+0000
TZOFFSETTO:+0100
TZNAME:BST
DTSTART:20210328T010000
END:DAYLIGHT
BEGIN:STANDARD
TZOFFSETFROM:+0100
TZOFFSETTO:+0000
TZNAME:GMT
DTSTART:20211031T010000
END:STANDARD
BEGIN:DAYLIGHT
TZOFFSETFROM:+0000
TZOFFSETTO:+0100
TZNAME:BST
DTSTART:20220327T010000
END:DAYLIGHT
BEGIN:STANDARD
TZOFFSETFROM:+0100
TZOFFSETTO:+0000
TZNAME:GMT
DTSTART:20221030T010000
END:STANDARD
END:VTIMEZONE
BEGIN:VEVENT
DTSTART;TZID=Europe/London:20210908T100000
DTEND;TZID=Europe/London:20210908T113000
DTSTAMP:20260424T161234
CREATED:20210326T162750Z
LAST-MODIFIED:20210329T140740Z
UID:4707-1631095200-1631100600@urcyorkshire.org.uk
SUMMARY:Property Committee
DESCRIPTION:Meeting of the synod property committee. For agenda/documents please login in the members area.
URL:https://urcyorkshire.org.uk/event/property-committee-3/
LOCATION:Online!
CATEGORIES:Property Committee
END:VEVENT
BEGIN:VEVENT
DTSTART;TZID=Europe/London:20210913T133000
DTEND;TZID=Europe/London:20210913T153000
DTSTAMP:20260424T161234
CREATED:20210803T095756Z
LAST-MODIFIED:20210803T100204Z
UID:7437-1631539800-1631547000@urcyorkshire.org.uk
SUMMARY:Safeguarding Committee Meeting
DESCRIPTION:This meeting will be at the Synod Office and also with an online option. \nFor agenda/documents please login into the members area.
URL:https://urcyorkshire.org.uk/event/safeguarding-committee-meeting-2/
LOCATION:Somerset House\, St Paul's Street\, Morley\, West Yorkshire\, LS27 9EP\, United Kingdom
CATEGORIES:Safeguarding Committee
END:VEVENT
BEGIN:VEVENT
DTSTART;TZID=Europe/London:20210914T190000
DTEND;TZID=Europe/London:20210914T213000
DTSTAMP:20260424T161234
CREATED:20210607T140417Z
LAST-MODIFIED:20210607T140417Z
UID:6471-1631646000-1631655000@urcyorkshire.org.uk
SUMMARY:Financial Resources Committee
DESCRIPTION:Details will be sent to members of the committee.\nIf you are interested in becoming involved with the committee please get in touch with the Synod office.
URL:https://urcyorkshire.org.uk/event/financial-resources-committee-2/
LOCATION:Somerset House\, St Paul's Street\, Morley\, West Yorkshire\, LS27 9EP\, United Kingdom
CATEGORIES:Financial Resources Committee
END:VEVENT
BEGIN:VEVENT
DTSTART;TZID=Europe/London:20210915T130000
DTEND;TZID=Europe/London:20210915T150000
DTSTAMP:20260424T161234
CREATED:20210902T110139Z
LAST-MODIFIED:20210902T110139Z
UID:7861-1631710800-1631718000@urcyorkshire.org.uk
SUMMARY:Basic Safeguarding Training Session
DESCRIPTION:An online training session for churches – Basic level. \nFor details and booking please contact here
URL:https://urcyorkshire.org.uk/event/basic-safeguarding-training-session/
LOCATION:Online!
CATEGORIES:Safeguarding
END:VEVENT
BEGIN:VEVENT
DTSTART;TZID=Europe/London:20210918T100000
DTEND;TZID=Europe/London:20210918T170000
DTSTAMP:20260424T161234
CREATED:20210710T113514Z
LAST-MODIFIED:20210824T151218Z
UID:6917-1631959200-1631984400@urcyorkshire.org.uk
SUMMARY:Little Big Day Out
DESCRIPTION:‘Little Big Day Out’ is a chance for families and children from your church to have fun and spend time together after so many months of isolation and limits on our lives. We cannot offer a large organised programme due to ongoing Covid restrictions but we can provide some space for fun and  ‘time out’. We hope you and your families will find it valuable to just be together. \nTickets for this event are already at a reduced price but further subsidy is available\, so please get in touch to discuss your church or families’ circumstance. Tickets are needed for everyone over 90cm tall (however old you are). \nYou can click on the poster below to download a copy. Download a booking form here. Bookings can be made by families or or you can arrange a group to go together. Unaccompanied adults are not allowed into the park but any adults who are taking or helping with children are welcome. Bookings need to be received by Weds 1st Sep. Please contact us if you have any questions. \nWe look forward to seeing you again in September 🙂
URL:https://urcyorkshire.org.uk/event/little-big-day-out/
CATEGORIES:Children, Youth and Families,Other,Synod Events
ATTACH;FMTTYPE=image/jpeg:https://urcyorkshire.org.uk/wp-content/uploads/2021/07/Gullivers-Valley-1b-scaled-e1626367930147.jpg
END:VEVENT
BEGIN:VEVENT
DTSTART;TZID=Europe/London:20210921T100000
DTEND;TZID=Europe/London:20210921T120000
DTSTAMP:20260424T161234
CREATED:20210902T114604Z
LAST-MODIFIED:20210902T114604Z
UID:7865-1632218400-1632225600@urcyorkshire.org.uk
SUMMARY:Basic Safeguarding Training Session
DESCRIPTION:An online training session for churches – Basic level. \nFor details and booking please contact here
URL:https://urcyorkshire.org.uk/event/basic-safeguarding-training-session-2/
LOCATION:Online!
CATEGORIES:Safeguarding Committee
END:VEVENT
BEGIN:VEVENT
DTSTART;TZID=Europe/London:20210921T190000
DTEND;TZID=Europe/London:20210921T200000
DTSTAMP:20260424T161234
CREATED:20210324T204140Z
LAST-MODIFIED:20210428T143657Z
UID:4557-1632250800-1632254400@urcyorkshire.org.uk
SUMMARY:Ministries Committee
DESCRIPTION:Meeting of the synod Ministries Committee. \nKath Lonsdale\nConvener
URL:https://urcyorkshire.org.uk/event/ministries-committee-2/
LOCATION:Somerset House\, St Paul's Street\, Morley\, West Yorkshire\, LS27 9EP\, United Kingdom
CATEGORIES:Ministries Committee
END:VEVENT
BEGIN:VEVENT
DTSTART;TZID=Europe/London:20210922T180000
DTEND;TZID=Europe/London:20210922T203000
DTSTAMP:20260424T161234
CREATED:20210809T120022Z
LAST-MODIFIED:20210809T110123Z
UID:5289-1632333600-1632342600@urcyorkshire.org.uk
SUMMARY:Synod Council Meeting
DESCRIPTION:This meeting will be at the Synod Office and also with an online option. \nFor agenda/documents please login into the members area.
URL:https://urcyorkshire.org.uk/event/synod-council-meeting/
LOCATION:Somerset House\, St Paul's Street\, Morley\, West Yorkshire\, LS27 9EP\, United Kingdom
CATEGORIES:Synod Council
END:VEVENT
BEGIN:VEVENT
DTSTART;TZID=Europe/London:20210929T190000
DTEND;TZID=Europe/London:20210929T200000
DTSTAMP:20260424T161234
CREATED:20210920T105052Z
LAST-MODIFIED:20210920T105052Z
UID:8135-1632942000-1632945600@urcyorkshire.org.uk
SUMMARY:Synod Hello/Practice Session
DESCRIPTION:Come along to say hello and get yourselves comfortable with how synod will work this October! Feel free to ask any questions you may have\, either about the practicalities of meeting on Zoom\, or in-person. There’ll be plenty of people on hand to help out! \nBring a brew\, see you there!
URL:https://urcyorkshire.org.uk/event/synod-hello-practice-session/
LOCATION:Online!
CATEGORIES:Synod Events,Synod Meetings
ATTACH;FMTTYPE=image/jpeg:https://urcyorkshire.org.uk/wp-content/uploads/2021/09/scott-graham-5fNmWej4tAA-unsplash-scaled.jpg
END:VEVENT
END:VCALENDAR