BEGIN:VCALENDAR
VERSION:2.0
PRODID:-//URC Yorkshire Synod - ECPv6.15.20//NONSGML v1.0//EN
CALSCALE:GREGORIAN
METHOD:PUBLISH
X-WR-CALNAME:URC Yorkshire Synod
X-ORIGINAL-URL:https://urcyorkshire.org.uk
X-WR-CALDESC:Events for URC Yorkshire Synod
REFRESH-INTERVAL;VALUE=DURATION:PT1H
X-Robots-Tag:noindex
X-PUBLISHED-TTL:PT1H
BEGIN:VTIMEZONE
TZID:Europe/London
BEGIN:DAYLIGHT
TZOFFSETFROM:+0000
TZOFFSETTO:+0100
TZNAME:BST
DTSTART:20200329T010000
END:DAYLIGHT
BEGIN:STANDARD
TZOFFSETFROM:+0100
TZOFFSETTO:+0000
TZNAME:GMT
DTSTART:20201025T010000
END:STANDARD
BEGIN:DAYLIGHT
TZOFFSETFROM:+0000
TZOFFSETTO:+0100
TZNAME:BST
DTSTART:20210328T010000
END:DAYLIGHT
BEGIN:STANDARD
TZOFFSETFROM:+0100
TZOFFSETTO:+0000
TZNAME:GMT
DTSTART:20211031T010000
END:STANDARD
BEGIN:DAYLIGHT
TZOFFSETFROM:+0000
TZOFFSETTO:+0100
TZNAME:BST
DTSTART:20220327T010000
END:DAYLIGHT
BEGIN:STANDARD
TZOFFSETFROM:+0100
TZOFFSETTO:+0000
TZNAME:GMT
DTSTART:20221030T010000
END:STANDARD
END:VTIMEZONE
BEGIN:VEVENT
DTSTART;TZID=Europe/London:20211001T170000
DTEND;TZID=Europe/London:20211003T140000
DTSTAMP:20260423T193453
CREATED:20210710T120825Z
LAST-MODIFIED:20210806T152925Z
UID:6955-1633107600-1633269600@urcyorkshire.org.uk
SUMMARY:Yorkshire Synod Youth Weekend
DESCRIPTION:also After all the restrictions of the past year we are really pleased to be able to bring you the synod Youth Weekend again 1st – 3rd Oct at Kingswood Activity Centre\, Dearne Valley. Last year was particularly hard on young people\, so we are glad to be able to offer a residential weekend to socialise\, have fun and join in all sorts of activities with friends. \nThere will also be time for young people to try praying and to look at the Bible together in a way that will be completely accessible if you don’t have any faith or church experience. \nThe cost of the weekend is only £25 per person. Leaders from URC groups will be welcome to come with any young people from their churches too. Please get in touch if you would like to join us. \nYou can download an information letter and booking form. You can also download the poster below to distribute. Please do get in touch if you have any questions: wilderness@urcyorkshire.org.uk
URL:https://urcyorkshire.org.uk/event/yorkshire-synod-youth-weekend/
LOCATION:Kingswood Activity Centre\, Dearne Valley
CATEGORIES:Children, Youth and Families,Synod Events
ATTACH;FMTTYPE=image/jpeg:https://urcyorkshire.org.uk/wp-content/uploads/2021/07/Wilderness-Adventure-Weekend-Kingswood-2021cropped.jpg
END:VEVENT
BEGIN:VEVENT
DTSTART;TZID=Europe/London:20211002T100000
DTEND;TZID=Europe/London:20211002T160000
DTSTAMP:20260423T193453
CREATED:20210907T104853Z
LAST-MODIFIED:20210907T104853Z
UID:8011-1633168800-1633190400@urcyorkshire.org.uk
SUMMARY:Ministry Enquirers' Event
DESCRIPTION:What is God asking of YOU?\nclick for further details
URL:https://urcyorkshire.org.uk/event/ministry-enquirers-event/
LOCATION:Online!
CATEGORIES:Other
ATTACH;FMTTYPE=image/jpeg:https://urcyorkshire.org.uk/wp-content/uploads/2021/09/Enquirers-Event-poster-Oct-21.jpg
ORGANIZER;CN="The United Reformed Church":MAILTO:ministries@urc.org.uk
END:VEVENT
BEGIN:VEVENT
DTSTART;TZID=Europe/London:20211004T120000
DTEND;TZID=Europe/London:20211006T130000
DTSTAMP:20260423T193453
CREATED:20210421T095045Z
LAST-MODIFIED:20210628T104132Z
UID:5253-1633348800-1633525200@urcyorkshire.org.uk
SUMMARY:Lead Your Church into Growth (LYCiG) - 2021 Annual National Conference
DESCRIPTION:CONFERENCE NOW FULL \nCALLING ALL CHURCH LEADERS! \nWe are very excited to have secured places on this very popular and effective church growth conference.  \nFor more information contact the Synod office or ashley@bvurc.org.uk\, further information can be found here. \nYours in Christ \nRev Ashley Evans\nSynod Evangelist \n \nWith over 25 years experience\, this highly-regarded course is designed for clergy and lay leaders from across different denominations who are looking for help in leading their churches into growth. \nIt’s an open seminar with interactive talks\, practical exercises\, workshops and space for personal reflection. Times of informal conversation allow the opportunity for our team to answer questions and help you explore your specific church situation. \nAs a ‘mixed economy’ Mission Shaped Church\, we work with Fresh Expressions as well as  ‘Re-freshed’ Expressions of Church!
URL:https://urcyorkshire.org.uk/event/lead-your-church-into-growth-lycig-2021-annual-national-conference/
LOCATION:The Hayes Conference Centre\, Swanwick\, Alfreton\, Derbyshire\, DE55 1AU\, The Hayes Conference Centre\,\, Swanwick\, Alfreton\, Derbyshire\, DE55 1AU\, United Kingdom
CATEGORIES:LYCIG,Other,Synod Events
ATTACH;FMTTYPE=image/jpeg:https://urcyorkshire.org.uk/wp-content/uploads/2021/04/Lycig-conferemce-e1618997249935.jpg
END:VEVENT
BEGIN:VEVENT
DTSTART;TZID=Europe/London:20211007T183000
DTEND;TZID=Europe/London:20211007T210000
DTSTAMP:20260423T193453
CREATED:20210916T110706Z
LAST-MODIFIED:20210916T110706Z
UID:7551-1633631400-1633640400@urcyorkshire.org.uk
SUMMARY:Synod Meeting - part one
DESCRIPTION:Synod Meeting – part one. This will take place online via Zoom. Please contact the Synod Office to register your attendance.
URL:https://urcyorkshire.org.uk/event/synod-meeting-part-one/
LOCATION:Online!
CATEGORIES:Synod Events,Synod Meetings
ATTACH;FMTTYPE=image/png:https://urcyorkshire.org.uk/wp-content/uploads/2020/12/meeting.png
END:VEVENT
BEGIN:VEVENT
DTSTART;TZID=Europe/London:20211009T100000
DTEND;TZID=Europe/London:20211009T131500
DTSTAMP:20260423T193453
CREATED:20210916T110826Z
LAST-MODIFIED:20210916T110826Z
UID:7559-1633773600-1633785300@urcyorkshire.org.uk
SUMMARY:Synod Meeting - part two
DESCRIPTION:A shorter morning meeting at Longcauseway Church\, Dewsbury – papers will be sent out soon.
URL:https://urcyorkshire.org.uk/event/synod-meeting-part-two/
LOCATION:Longcauseway Church\, Dewsbury\, Princess of Wales Precinct\, Dewsbury\, WF13 1NH
CATEGORIES:Synod Events,Synod Meetings
ATTACH;FMTTYPE=image/png:https://urcyorkshire.org.uk/wp-content/uploads/2020/12/meeting.png
END:VEVENT
BEGIN:VEVENT
DTSTART;TZID=Europe/London:20211013T140000
DTEND;TZID=Europe/London:20211013T163000
DTSTAMP:20260423T193453
CREATED:20210902T144219Z
LAST-MODIFIED:20210902T144219Z
UID:7887-1634133600-1634142600@urcyorkshire.org.uk
SUMMARY:Intermediate Safeguarding Training Course
DESCRIPTION:An online training session for churches – Intermediate level. \nFor details and booking please contact here
URL:https://urcyorkshire.org.uk/event/intermediate-safeguarding-training-course/
LOCATION:Online!
CATEGORIES:Safeguarding
END:VEVENT
BEGIN:VEVENT
DTSTART;TZID=Europe/London:20211013T190000
DTEND;TZID=Europe/London:20211013T200000
DTSTAMP:20260423T193453
CREATED:20210422T140118Z
LAST-MODIFIED:20210422T140118Z
UID:5329-1634151600-1634155200@urcyorkshire.org.uk
SUMMARY:Children & Young People's Committee
DESCRIPTION:Meeting of the synod Children & Young People’s Committee.
URL:https://urcyorkshire.org.uk/event/children-young-peoples-committee/
LOCATION:Somerset House\, St Paul's Street\, Morley\, West Yorkshire\, LS27 9EP\, United Kingdom
CATEGORIES:CYP Committee
END:VEVENT
BEGIN:VEVENT
DTSTART;TZID=Europe/London:20211015T190000
DTEND;TZID=Europe/London:20211015T210000
DTSTAMP:20260423T193453
CREATED:20211006T130035Z
LAST-MODIFIED:20211006T130035Z
UID:8339-1634324400-1634331600@urcyorkshire.org.uk
SUMMARY:Re-imagining Church in a world of fear and uncertainty
DESCRIPTION:Congregational Federation Zoom Webinar – see flier here \nTo book or for further information contact luzia.watt@congregational.org.uk 
URL:https://urcyorkshire.org.uk/event/re-imagining-church-in-a-world-of-fear-and-uncertainty/
LOCATION:Online!
CATEGORIES:Other
END:VEVENT
BEGIN:VEVENT
DTSTART;TZID=Europe/London:20211018T103000
DTEND;TZID=Europe/London:20211018T120000
DTSTAMP:20260423T193453
CREATED:20210415T125313Z
LAST-MODIFIED:20210415T201009Z
UID:5179-1634553000-1634558400@urcyorkshire.org.uk
SUMMARY:Pastoral Committee Meeting
DESCRIPTION:Meeting of the synod Pastoral Committee.
URL:https://urcyorkshire.org.uk/event/pastoral-committee-meeting/
LOCATION:Somerset House\, St Paul's Street\, Morley\, West Yorkshire\, LS27 9EP\, United Kingdom
CATEGORIES:Pastoral Committee
END:VEVENT
BEGIN:VEVENT
DTSTART;TZID=Europe/London:20211019T100000
DTEND;TZID=Europe/London:20211019T123000
DTSTAMP:20260423T193453
CREATED:20210902T144432Z
LAST-MODIFIED:20210902T144432Z
UID:7891-1634637600-1634646600@urcyorkshire.org.uk
SUMMARY:Intermediate Safeguarding Training Course
DESCRIPTION:An online training session for churches – Intermediate level. \nFor details and booking please contact here
URL:https://urcyorkshire.org.uk/event/intermediate-safeguarding-training-course-2/
LOCATION:Online!
CATEGORIES:Safeguarding
END:VEVENT
BEGIN:VEVENT
DTSTART;TZID=Europe/London:20211028T100000
DTEND;TZID=Europe/London:20211028T123000
DTSTAMP:20260423T193453
CREATED:20210902T144623Z
LAST-MODIFIED:20210902T144623Z
UID:7895-1635415200-1635424200@urcyorkshire.org.uk
SUMMARY:Intermediate Safeguarding Training Course
DESCRIPTION:An online training session for churches – Intermediate level. \nFor details and booking please contact here
URL:https://urcyorkshire.org.uk/event/intermediate-safeguarding-training-course-3/
LOCATION:Online!
CATEGORIES:Safeguarding
END:VEVENT
END:VCALENDAR