BEGIN:VCALENDAR
VERSION:2.0
PRODID:-//URC Yorkshire Synod - ECPv6.15.20//NONSGML v1.0//EN
CALSCALE:GREGORIAN
METHOD:PUBLISH
X-WR-CALNAME:URC Yorkshire Synod
X-ORIGINAL-URL:https://urcyorkshire.org.uk
X-WR-CALDESC:Events for URC Yorkshire Synod
REFRESH-INTERVAL;VALUE=DURATION:PT1H
X-Robots-Tag:noindex
X-PUBLISHED-TTL:PT1H
BEGIN:VTIMEZONE
TZID:Europe/London
BEGIN:DAYLIGHT
TZOFFSETFROM:+0000
TZOFFSETTO:+0100
TZNAME:BST
DTSTART:20210328T010000
END:DAYLIGHT
BEGIN:STANDARD
TZOFFSETFROM:+0100
TZOFFSETTO:+0000
TZNAME:GMT
DTSTART:20211031T010000
END:STANDARD
BEGIN:DAYLIGHT
TZOFFSETFROM:+0000
TZOFFSETTO:+0100
TZNAME:BST
DTSTART:20220327T010000
END:DAYLIGHT
BEGIN:STANDARD
TZOFFSETFROM:+0100
TZOFFSETTO:+0000
TZNAME:GMT
DTSTART:20221030T010000
END:STANDARD
BEGIN:DAYLIGHT
TZOFFSETFROM:+0000
TZOFFSETTO:+0100
TZNAME:BST
DTSTART:20230326T010000
END:DAYLIGHT
BEGIN:STANDARD
TZOFFSETFROM:+0100
TZOFFSETTO:+0000
TZNAME:GMT
DTSTART:20231029T010000
END:STANDARD
END:VTIMEZONE
BEGIN:VEVENT
DTSTART;TZID=Europe/London:20220208T190000
DTEND;TZID=Europe/London:20220208T210000
DTSTAMP:20260422T174251
CREATED:20211103T152635Z
LAST-MODIFIED:20211115T214343Z
UID:8561-1644346800-1644354000@urcyorkshire.org.uk
SUMMARY:Children's and Young People's Committee
DESCRIPTION:
URL:https://urcyorkshire.org.uk/event/committee-meeting/
LOCATION:Online!
CATEGORIES:CYP Committee
END:VEVENT
BEGIN:VEVENT
DTSTART;TZID=Europe/London:20220214T183000
DTEND;TZID=Europe/London:20220214T203000
DTSTAMP:20260422T174251
CREATED:20211115T190948Z
LAST-MODIFIED:20211115T190948Z
UID:8739-1644863400-1644870600@urcyorkshire.org.uk
SUMMARY:Synod Council
DESCRIPTION:
URL:https://urcyorkshire.org.uk/event/synod-council/
LOCATION:Hybrid
CATEGORIES:Synod Council
END:VEVENT
BEGIN:VEVENT
DTSTART;TZID=Europe/London:20220228T190000
DTEND;TZID=Europe/London:20220228T203000
DTSTAMP:20260422T174251
CREATED:20220223T122014Z
LAST-MODIFIED:20220223T122014Z
UID:10117-1646074800-1646080200@urcyorkshire.org.uk
SUMMARY:Messy Easter
DESCRIPTION:The Children & Youth Development Workers across the Five Northerly synods have been meeting together with those who lead Messy Church locally. This has provided space for sharing and learning together.\n\nThese gatherings are open to ALL Messy Churches so if you would like to join (for your first or fifth time) please do come along and invite others too.\n\nThe next ‘Northerly Synods Messy Church gathering’ is on 28th February and will focus on Easter.\n\n\n\nWe will be opening the session with the opportunity for you to share\, if you wish\, something that went really well (or really bad!) for you at your Advent / Christmas Messy Church. However\, there is no obligation on you to share anything and\, if you do\, please keep it succinct – time is really tight.\n\n\nZoom link below. Contact Megan Tillbrook at wilderness@urcyorkshire.org.uk for the password.
URL:https://urcyorkshire.org.uk/event/messy-easter/
LOCATION:Online!
CATEGORIES:Children, Youth and Families
END:VEVENT
END:VCALENDAR