BEGIN:VCALENDAR
VERSION:2.0
PRODID:-//URC Yorkshire Synod - ECPv6.15.20//NONSGML v1.0//EN
CALSCALE:GREGORIAN
METHOD:PUBLISH
X-WR-CALNAME:URC Yorkshire Synod
X-ORIGINAL-URL:https://urcyorkshire.org.uk
X-WR-CALDESC:Events for URC Yorkshire Synod
REFRESH-INTERVAL;VALUE=DURATION:PT1H
X-Robots-Tag:noindex
X-PUBLISHED-TTL:PT1H
BEGIN:VTIMEZONE
TZID:Europe/London
BEGIN:DAYLIGHT
TZOFFSETFROM:+0000
TZOFFSETTO:+0100
TZNAME:BST
DTSTART:20210328T010000
END:DAYLIGHT
BEGIN:STANDARD
TZOFFSETFROM:+0100
TZOFFSETTO:+0000
TZNAME:GMT
DTSTART:20211031T010000
END:STANDARD
BEGIN:DAYLIGHT
TZOFFSETFROM:+0000
TZOFFSETTO:+0100
TZNAME:BST
DTSTART:20220327T010000
END:DAYLIGHT
BEGIN:STANDARD
TZOFFSETFROM:+0100
TZOFFSETTO:+0000
TZNAME:GMT
DTSTART:20221030T010000
END:STANDARD
BEGIN:DAYLIGHT
TZOFFSETFROM:+0000
TZOFFSETTO:+0100
TZNAME:BST
DTSTART:20230326T010000
END:DAYLIGHT
BEGIN:STANDARD
TZOFFSETFROM:+0100
TZOFFSETTO:+0000
TZNAME:GMT
DTSTART:20231029T010000
END:STANDARD
END:VTIMEZONE
BEGIN:VEVENT
DTSTART;TZID=Europe/London:20220303T100000
DTEND;TZID=Europe/London:20220303T120000
DTSTAMP:20260421T201124
CREATED:20211115T214545Z
LAST-MODIFIED:20211115T214545Z
UID:8761-1646301600-1646308800@urcyorkshire.org.uk
SUMMARY:Listed Buildings Advisory Committee
DESCRIPTION:
URL:https://urcyorkshire.org.uk/event/listed-buildings-advisory-committee/
LOCATION:Hybrid
CATEGORIES:Listed Buildings Advisory Committee
END:VEVENT
BEGIN:VEVENT
DTSTART;TZID=Europe/London:20220305T093000
DTEND;TZID=Europe/London:20220305T160000
DTSTAMP:20260421T201124
CREATED:20211122T193632Z
LAST-MODIFIED:20211209T124136Z
UID:8855-1646472600-1646496000@urcyorkshire.org.uk
SUMMARY:Joined Up Conference 2022
DESCRIPTION:The Joined Up conference is officially ‘back’ for 2022.! Last year we met but it was from behind our computer screens in our own homes so we are really looking forward to gathering the Joined Up family together again next year. \nPlanned\, organised and delivered in partnership with our friends at Diocese of Sheffield\, Sheffield Methodist Circuit\, Christian & Sheffield Schools\, and the Methodist Church Yorkshire Plus Region of the Learning Network\, the Joined Up Conference is an exciting and engaging day for anyone who ministers with children\, young people and families in churches and schools. Whether you are an employed worker\, willing volunteer\, minister or vicar\, or simply someone who is interested in finding out more there will be something on offer for you to take away and use in your own ministry! \nWe will see the return of our keynotes\, workshops and famous short stories. The workshops this year include input from Jon Steel (Children and Youth Development Practitioner for the Yorkshire Synod) on how we can use the Bible as a transformational tool in our ministry\, and Lorraine Webb (URC Children’s & Youth Work Program Officer) on understanding the senses for those with additional needs. We are excited to hear from our keynote speakers Bishop Sophie (Bishop of Doncaster) and Hannah Chukwu (Assistant Editor at Penguin Books). \nFor more information and to book your place follow this link: https://joinedupconferencecom.wordpress.com/booking-3/
URL:https://urcyorkshire.org.uk/event/joined-up-conference-2022/
LOCATION:STC Sheffield\, Nairn Street\, Sheffield\, S10 1UL
CATEGORIES:Children, Youth and Families,Synod Events
END:VEVENT
BEGIN:VEVENT
DTSTART;TZID=Europe/London:20220309T100000
DTEND;TZID=Europe/London:20220309T120000
DTSTAMP:20260421T201124
CREATED:20211115T095739Z
LAST-MODIFIED:20211115T095739Z
UID:8729-1646820000-1646827200@urcyorkshire.org.uk
SUMMARY:Property Committee
DESCRIPTION:
URL:https://urcyorkshire.org.uk/event/property-committee-8/
LOCATION:Online!
CATEGORIES:Property Committee
END:VEVENT
BEGIN:VEVENT
DTSTART;TZID=Europe/London:20220315T100000
DTEND;TZID=Europe/London:20220315T120000
DTSTAMP:20260421T201124
CREATED:20211115T215233Z
LAST-MODIFIED:20211115T215233Z
UID:8777-1647338400-1647345600@urcyorkshire.org.uk
SUMMARY:Financial Resources Committee
DESCRIPTION:
URL:https://urcyorkshire.org.uk/event/financial-resources-committee-4/
LOCATION:Hybrid
CATEGORIES:Financial Resources Committee
END:VEVENT
BEGIN:VEVENT
DTSTART;TZID=Europe/London:20220319T103000
DTEND;TZID=Europe/London:20220319T170000
DTSTAMP:20260421T201124
CREATED:20220107T115123Z
LAST-MODIFIED:20220107T115123Z
UID:9271-1647685800-1647709200@urcyorkshire.org.uk
SUMMARY:FORUM for Youth Returns in 2022
DESCRIPTION:Young people are the future of the Church (or are they already the Church?)\nNot disciples-in-training but disciples-in-waiting (or perhaps the other way around? I can never remember)! \nThere are a large number of cliches\, like the ones above\, about children and young people and the Church. Some we can read and they simply make us smirk or roll our eyes\, but others can ignite a more emotive response; a more passionate response. \nWe want to welcome children and young people into all aspects of the life and business and the Yorkshire Synod of the URC. Because we know that young people and children are the most dynamic\, richest and most beautiful part of the Church. \nWe are passionate. \nIf you are too\, join us on Saturday 19 March at Xscape Yorkshire\, Castleford (easily accessible by car and train). Lunch and refreshments are provided. After lunch we will take part in some adventure activities (most likely trampolining and rock climbing). \nTo book please confirm with Megan Tillbrook by texting or ringing 07522 220213 or emailing wilderness@urcyorkshire.org.uk.
URL:https://urcyorkshire.org.uk/event/forum-for-youth-returns-in-2022/
LOCATION:Xscape Yorkshire\, Colorado Way\, Castleford\, WF10 4TA\, United Kingdom
CATEGORIES:Children, Youth and Families,Synod Events
END:VEVENT
BEGIN:VEVENT
DTSTART;TZID=Europe/London:20220324T190000
DTEND;TZID=Europe/London:20220324T200000
DTSTAMP:20260421T201124
CREATED:20220320T191010Z
LAST-MODIFIED:20220320T191010Z
UID:10371-1648148400-1648152000@urcyorkshire.org.uk
SUMMARY:Talking about Education
DESCRIPTION:“We’d love to share the good news with children and young people – but there aren’t any in my church” \nJust as Jesus’ ministry happened where people were\, we sometimes have to leave the comfort of our own environment to meet and reach people with whom we don’t normally have contact. \nFor children and young people\, that can often mean schools and colleges. In this session you will have the opportunity to hear from two youth and community work practitioners with experience of youth work in education settings: \nRuth Watson is a URC Minister. She currently exercises a Special Category Ministry MediaCityUK Church and Community Hub in Salford Quays.  This is a partnership between Oasis and the URC.  Her role is to build a church community in the Hub serving both the Academy and the local communities of Ordsall/Langworthy estates and MediaCity.  Ruth is involved with the Academy through chaplaincy and mentoring and occasional RE lessons; and with the community through PlaySpace; Talk English Café and sometimes with Youth Club and building up Holy Hub a Thursday evening Church Group. \nNigel Robertsis the Further Education Chaplaincy Ambassador in the West Midlands area as part of the work of the West Midlands Churches Further Education Council. Nigel has a wealth knowledge and experience in FE Chaplaincy and a passion to help church communities engage with and support those within the FE community in the West Midlands and beyond. In 2022 Nigel has launched FE Sunday – being held for the first time ever on Sunday 15 May 2022 – as an opportunity to pray for your local colleges and for the Further Education sector\, and to consider how your church could love and serve your local college. More details and resources will become available soon… \nBook your FREE ticket at https://bit.ly/3HPL3cV and share your experiences\, joys and frustrations as we talk about engaging with the education sector
URL:https://urcyorkshire.org.uk/event/talking-about-education/
LOCATION:Online!
CATEGORIES:Children, Youth and Families
END:VEVENT
END:VCALENDAR